BEGIN:VCALENDAR
PRODID:-//AT Content Types//AT Event//EN
VERSION:1.0
BEGIN:VEVENT
DTSTART:20191010T113000Z
DTEND:20191010T124500Z
DCREATED:20191005T085307Z
UID:ATEvent-811a777c92bb40faa8ae4dcce9cfd2fb
SEQUENCE:0
LAST-MODIFIED:20191005T085312Z
SUMMARY:Cross ELA
DESCRIPTION:Cross ELA pour les classes de CE2\, CE2/C.M.1\, C.M.1\, C.
 M.1. / C.M.2. et C.M.2. de Mesdames Tellier\, Wacogne\, Colombel\, Mai
 llot et M Dejardin.
LOCATION:En bas des remparts à Boulogne-sur-Mer
PRIORITY:3
TRANSP:0
END:VEVENT
END:VCALENDAR
