BEGIN:VCALENDAR
PRODID:-//AT Content Types//AT Event//EN
VERSION:2.0
METHOD:PUBLISH
BEGIN:VEVENT
DTSTAMP:20260421T090854Z
CREATED:20191024T065629Z
UID:ATEvent-592ea685dc604ec5bc889d0e9dfeb14d
LAST-MODIFIED:20191024T065633Z
SUMMARY:Orientation post-troisième
DTSTART:20190114T165500Z
DTEND:20190114T183000Z
DESCRIPTION:Orientation collège. Boulogne-sur-Mer
LOCATION:Salle d'étude du collège
CONTACT:M Waekens\, 0321314553\, godefroy-de.bouillon@wanadoo.fr
CLASS:PUBLIC
END:VEVENT
END:VCALENDAR
